BEGIN:VCALENDAR
VERSION:2.0
PRODID:Noite de São João\, Vilar da Carga
X-WR-CALNAME:Noite de São João\, Vilar da Carga
X-WR-TIMEZONE:Europe/Lisbon
X-PUBLISHED-TTL:P1W
BEGIN:VTIMEZONE
TZID:Europe/Lisbon
X-LIC-LOCATION:Europe/Lisbon
END:VTIMEZONE
BEGIN:VEVENT
UID:69e8978c5ff7a
DTSTART;VALUE=DATE:20240623
SEQUENCE:0
TRANSP:OPAQUE
DTEND;VALUE=DATE:20240624
SUMMARY:Noite de São João\, Vilar da Carga
CLASS:PUBLIC
DESCRIPTION:Noite de São João\, com muita animação\, \"Dia do Sócio\"\
 , organização Centro Cultural do Vilar da Carga
X-MICROSOFT-CDO-ALLDAYEVENT:TRUE
DTSTAMP:20260422T094028Z
END:VEVENT
END:VCALENDAR